BEGIN:VCALENDAR
VERSION:2.0
PRODID:-//Nevada Plants - ECPv6.8.2.1//NONSGML v1.0//EN
CALSCALE:GREGORIAN
METHOD:PUBLISH
X-ORIGINAL-URL:https://nevadaplants.com
X-WR-CALDESC:Events for Nevada Plants
REFRESH-INTERVAL;VALUE=DURATION:PT1H
X-Robots-Tag:noindex
X-PUBLISHED-TTL:PT1H
BEGIN:VTIMEZONE
TZID:UTC
BEGIN:STANDARD
TZOFFSETFROM:+0000
TZOFFSETTO:+0000
TZNAME:UTC
DTSTART:20230101T000000
END:STANDARD
END:VTIMEZONE
BEGIN:VEVENT
DTSTART;TZID=UTC:20230401T080000
DTEND;TZID=UTC:20230401T120000
DTSTAMP:20260423T115852
CREATED:20230321T184530Z
LAST-MODIFIED:20230321T184554Z
UID:15275-1680336000-1680350400@nevadaplants.com
SUMMARY:Southwest Gas BLUE School Garden Upgrade
DESCRIPTION:Join us for Southwest Gas’s first BLUE event of the year supporting healthy and sustainable communities. In partnership with Nevada Plants\, Southwest Gas will be enhancing the garden and composter\, building a butterfly and sensory garden\, and giving the school some overall TLC. \nSaturday\, April 1\n8am – 12pm\nJesse Scott Elementary School\n5700 Bruce Street\nNorth Las Vegas\, NV 89081
URL:https://nevadaplants.com/event/southwest-gas-blue-school-garden-upgrade/
LOCATION:Jesse Scott Elementary School\, 5700 Bruce Street\, North Las Vegas\, NV\, 89081\, United States
CATEGORIES:Tree Planting
END:VEVENT
BEGIN:VEVENT
DTSTART;TZID=UTC:20230518T090000
DTEND;TZID=UTC:20230518T110000
DTSTAMP:20260423T115852
CREATED:20230512T154825Z
LAST-MODIFIED:20230515T182904Z
UID:15514-1684400400-1684407600@nevadaplants.com
SUMMARY:Coyote Melon Planting at Henderson Bird Viewing Preserve
DESCRIPTION:Join us for an exciting morning planting some coyote melon\, a bitter native squash to humans\, but a delicious meal for coyotes and other animals!  Native Americans used the seeds for food and extracted the oil to make paint pigments.  The melon makes great gourds\, rattles\, and drinking cups\, and the tuber is used for soap!  Learn more about this remarkable plant! \nPlease dress for the weather!  Close-toed shoes are recommended.  Coverings such as hats\, sunscreen\, and cooling towels for the heat and sun.  Always carry water and take light snacks while working.  Gloves and tools will be provided. \nFirst-time visitors must register at the Henderson Bird Viewing Preserve’s visitor center.  The preserve is right next to the City of Henderson Animal Shelter.  Watch for signs!  You will proceed on a small road (15 MPH) to ample parking.  We will meet in front of the visitor center.  See you there!
URL:https://nevadaplants.com/event/coyote-melon-planting-at-henderson-bird-viewing-preserve/
LOCATION:Henderson Bird Viewing Preserve\, 350 E. Galleria Drive\, Henderson\, NV\, 89011\, United States
CATEGORIES:Tree Planting
END:VEVENT
BEGIN:VEVENT
DTSTART;TZID=UTC:20230927T130000
DTEND;TZID=UTC:20230927T150000
DTSTAMP:20260423T115852
CREATED:20230922T170506Z
LAST-MODIFIED:20230925T151926Z
UID:15827-1695819600-1695826800@nevadaplants.com
SUMMARY:Fruit Tree Planting
DESCRIPTION:Nevada Plants is joining the City of Reno\, Keep Truckee Meadows Beautiful and the Reno-Sparks Chamber of Commerce for a fruit tree planting at Miguel Ribera Park. Thank you to the 2023 Chamber of Commerce Leadership Class\, U.S. Forest Service and Nevada Division of Forestry for logistical support and funding. Special thanks to UNLV and Matt Basile\, Reno Urban Forester.
URL:https://nevadaplants.com/event/fruit-tree-planting-2/
LOCATION:Miguel Ribera Park\, 3925 Neil Park Rd\, Reno\, NV\, 89502\, United States
CATEGORIES:Tree Planting
END:VEVENT
BEGIN:VEVENT
DTSTART;TZID=UTC:20231003T090000
DTEND;TZID=UTC:20231003T130000
DTSTAMP:20260423T115852
CREATED:20230922T170939Z
LAST-MODIFIED:20230925T152301Z
UID:15832-1696323600-1696338000@nevadaplants.com
SUMMARY:South Fork Tribal Community Tree Planting
DESCRIPTION:Join us at South Fork for a Tribal community tree planting. We are meeting at the hoop houses\, and working our way to the cemetery. Eighteen trees in all to plant\, from Blue Spruce and lilac to fruit trees near the hoop houses. \nIf you need a tree and you live in this area\, come join us and sign up for a Spring tree delivery – all depending on the weather! \nThank you Dallas Smales\, Andi Porreca\, NDF and Gerry Miller our Elko Board member for helping with logistics!
URL:https://nevadaplants.com/event/south-fork-tribal-community-tree-planting/
LOCATION:Nevada
CATEGORIES:Tree Planting
END:VEVENT
BEGIN:VEVENT
DTSTART;TZID=UTC:20240420T090000
DTEND;TZID=UTC:20240420T110000
DTSTAMP:20260423T115852
CREATED:20240322T141300Z
LAST-MODIFIED:20240322T141325Z
UID:16201-1713603600-1713610800@nevadaplants.com
SUMMARY:Tree Planting & Giveaway
DESCRIPTION:
URL:https://nevadaplants.com/event/tree-planting-giveaway/
LOCATION:Hollywood Recreation Center\, 1650 S Hollywood Blvd\, Las Vegas\, NV\, 89142\, United States
CATEGORIES:Tree Giveawat,Tree Planting
END:VEVENT
END:VCALENDAR