BEGIN:VCALENDAR
VERSION:2.0
PRODID:-//Nevada Plants - ECPv6.8.2.1//NONSGML v1.0//EN
CALSCALE:GREGORIAN
METHOD:PUBLISH
X-WR-CALNAME:Nevada Plants
X-ORIGINAL-URL:https://nevadaplants.com
X-WR-CALDESC:Events for Nevada Plants
REFRESH-INTERVAL;VALUE=DURATION:PT1H
X-Robots-Tag:noindex
X-PUBLISHED-TTL:PT1H
BEGIN:VTIMEZONE
TZID:UTC
BEGIN:STANDARD
TZOFFSETFROM:+0000
TZOFFSETTO:+0000
TZNAME:UTC
DTSTART:20220101T000000
END:STANDARD
END:VTIMEZONE
BEGIN:VEVENT
DTSTART;TZID=UTC:20220826T180000
DTEND;TZID=UTC:20220826T200000
DTSTAMP:20260421T185018
CREATED:20220728T203758Z
LAST-MODIFIED:20220803T194950Z
UID:4979-1661536800-1661544000@nevadaplants.com
SUMMARY:Selecting and Maintaining Trees for Urban Desert Landscapes
DESCRIPTION:Join us August 26th from 6-8pm for a talk and book signing with Dale A. Devitt and Bob L. Morris\, authors of Selecting and Maintaining Trees for Urban Desert Landscapes: A Mojave Desert Water Conservation Perspective. The event will take place at UNLV School of Architecture Paul B. Sogg Building\, Room 127. 2 ISA CEUs are available. \nThank you to our Event Sponsor Nevada American Society of Landscape Architects.  Partners include: UNLV School of Architecture\, Southern Nevada Arborist Group\, University of Nevada Cooperative Extension\, Nevada Division of Forestry\, and U.S. Forest Service.
URL:https://nevadaplants.com/event/selecting-and-maintaining-trees-for-urban-desert-landscapes/
LOCATION:UNLV School of Architecture\, UNLV School of Architecture Paul B. Sogg Building\, Room 127\, Las Vegas\, NV\, 89119\, United States
CATEGORIES:Educational Event
END:VEVENT
END:VCALENDAR