BEGIN:VCALENDAR
VERSION:2.0
PRODID:-//Nevada Plants - ECPv6.8.2.1//NONSGML v1.0//EN
CALSCALE:GREGORIAN
METHOD:PUBLISH
X-WR-CALNAME:Nevada Plants
X-ORIGINAL-URL:https://nevadaplants.com
X-WR-CALDESC:Events for Nevada Plants
REFRESH-INTERVAL;VALUE=DURATION:PT1H
X-Robots-Tag:noindex
X-PUBLISHED-TTL:PT1H
BEGIN:VTIMEZONE
TZID:UTC
BEGIN:STANDARD
TZOFFSETFROM:+0000
TZOFFSETTO:+0000
TZNAME:UTC
DTSTART:20220101T000000
END:STANDARD
END:VTIMEZONE
BEGIN:VEVENT
DTSTART;TZID=UTC:20220609T080000
DTEND;TZID=UTC:20220609T123000
DTSTAMP:20260421T221519
CREATED:20220404T172642Z
LAST-MODIFIED:20220404T172650Z
UID:4599-1654761600-1654777800@nevadaplants.com
SUMMARY:Management of Landscape Trees for Community Managers - Day One
DESCRIPTION:Are you a community manager? Join us for a class on how to manage landscape trees! The course is broken up into two 4.5 hour classes on consecutive days. \nFor more information on how to register\, please email info@nevadaplants.com \nDay One\nTrees For Las Vegas Landscapes (Total Instructional Minutes = 75)\nClassroom Topics: \n\nUnderstanding Las Vegas USDA/Sunset Landscape Climate Zones (5 minutes)\nBest Trees for LV Common Interest/High Density Communities (20 minutes)\nTrees Not Recommended for Common Interest/High Density Communities (15 minutes)\nTree Care & Maintenance (25 minutes)\nPurchasing Plants Retail/Wholesale (10 minutes)\n\n BREAK 15 Minutes  \nTree Pests & Diseases (Total Instructional Minutes = 35)\nClassroom Topics: \n\nCommon Insect Pests (15 minutes)\nCommon Diseases (10 minutes)\nPest Control Options & Practices (5 minutes)\nCommunity Manager Responsibilities (5 minutes)\n\nHardscape Elements vs Common Area Trees (Total Instructional Minutes = 30)\nClassroom Topics: \n\nExamples of Damage to Hardscapes (15 minutes)\nPreventing Root Intrusion (15 minutes)\n\nBREAK 15 MINUTES  \nTree Inventory & Evaluations (Total Instructional Minutes = 30)\nClassroom Topics: \n\nField Procedures & Data Collection (15 minutes)\nBenefits for HOA’s (15 minutes)\n\nTree Appraisals (Total Instructional Minutes = 30)\nClassroom Topics: \n\nExamples of Tree Appraisals (15 minutes)\nAppraisal Procedures and Techniques (15 minutes)
URL:https://nevadaplants.com/event/management-of-landscape-trees-for-community-managers-day-one-june/
END:VEVENT
END:VCALENDAR