BEGIN:VCALENDAR
VERSION:2.0
PRODID:-//Nevada Plants - ECPv6.8.2.1//NONSGML v1.0//EN
CALSCALE:GREGORIAN
METHOD:PUBLISH
X-ORIGINAL-URL:https://nevadaplants.com
X-WR-CALDESC:Events for Nevada Plants
REFRESH-INTERVAL;VALUE=DURATION:PT1H
X-Robots-Tag:noindex
X-PUBLISHED-TTL:PT1H
BEGIN:VTIMEZONE
TZID:UTC
BEGIN:STANDARD
TZOFFSETFROM:+0000
TZOFFSETTO:+0000
TZNAME:UTC
DTSTART:20220101T000000
END:STANDARD
END:VTIMEZONE
BEGIN:VEVENT
DTSTART;TZID=UTC:20220604T083000
DTEND;TZID=UTC:20220604T103000
DTSTAMP:20260421T221529
CREATED:20220531T194135Z
LAST-MODIFIED:20220531T194135Z
UID:4768-1654331400-1654338600@nevadaplants.com
SUMMARY:East Side Fruit & Shade Tree Giveaway
DESCRIPTION:Hosted by Nevada Plants and Commissioner Tick Segerblom \nPriority will be given to those who live in a food desert and heat island area\, especially those residing in the Orchards neighborhood. \nCall (702) 423-2120 to reserve a tree. No trees will be given without prior reservation. \nPick up: June 4\, 2022 from 8:30am-10:30am \nWe will also need volunteers to help move and plant trees!
URL:https://nevadaplants.com/event/east-side-fruit-shade-tree-giveaway/
LOCATION:Hollywood Recreation Center\, 1650 S Hollywood Blvd\, Las Vegas\, NV\, 89142\, United States
CATEGORIES:Tree Planting
END:VEVENT
END:VCALENDAR