BEGIN:VCALENDAR
VERSION:2.0
PRODID:-//Nevada Plants - ECPv6.8.2.1//NONSGML v1.0//EN
CALSCALE:GREGORIAN
METHOD:PUBLISH
X-WR-CALNAME:Nevada Plants
X-ORIGINAL-URL:https://nevadaplants.com
X-WR-CALDESC:Events for Nevada Plants
REFRESH-INTERVAL;VALUE=DURATION:PT1H
X-Robots-Tag:noindex
X-PUBLISHED-TTL:PT1H
BEGIN:VTIMEZONE
TZID:UTC
BEGIN:STANDARD
TZOFFSETFROM:+0000
TZOFFSETTO:+0000
TZNAME:UTC
DTSTART:20220101T000000
END:STANDARD
END:VTIMEZONE
BEGIN:VEVENT
DTSTART;TZID=UTC:20220525T170000
DTEND;TZID=UTC:20220525T183000
DTSTAMP:20260422T001119
CREATED:20220512T170132Z
LAST-MODIFIED:20220512T172857Z
UID:4739-1653498000-1653503400@nevadaplants.com
SUMMARY:Neighborhood Notification Team Canvass - The Orchards
DESCRIPTION:The Neighborhood Notification team will meet at Lewis Family Park to distribute flyers to the community to make sure local people know about the event on June 5th. \nPlease RSVP Here.
URL:https://nevadaplants.com/event/neighborhood-notification-team-canvass-the-orchards-2/
LOCATION:Lewis Family Park\, 1970 Tree Line Dr\, Las Vegas\, 89142
CATEGORIES:Neighborhood Notification Team Canvass
END:VEVENT
END:VCALENDAR