BEGIN:VCALENDAR
VERSION:2.0
PRODID:-//Nevada Plants - ECPv6.8.2.1//NONSGML v1.0//EN
CALSCALE:GREGORIAN
METHOD:PUBLISH
X-ORIGINAL-URL:https://nevadaplants.com
X-WR-CALDESC:Events for Nevada Plants
REFRESH-INTERVAL;VALUE=DURATION:PT1H
X-Robots-Tag:noindex
X-PUBLISHED-TTL:PT1H
BEGIN:VTIMEZONE
TZID:UTC
BEGIN:STANDARD
TZOFFSETFROM:+0000
TZOFFSETTO:+0000
TZNAME:UTC
DTSTART:20220101T000000
END:STANDARD
END:VTIMEZONE
BEGIN:VEVENT
DTSTART;TZID=UTC:20220515T170000
DTEND;TZID=UTC:20220515T183000
DTSTAMP:20260422T001255
CREATED:20220512T162904Z
LAST-MODIFIED:20220512T162904Z
UID:4728-1652634000-1652639400@nevadaplants.com
SUMMARY:Neighborhood Notification Team Canvass - Winchester
DESCRIPTION:The Neighborhood Notification team will meet at Winchester Cultural Center to distribute flyers to the community around the Center. \n​​We will meet at Winchester and create a one hour canvass plan to make sure local people know about the event on the 21st​.​ \nPlease RSVP here.
URL:https://nevadaplants.com/event/neighborhood-notification-team-canvass-winchester/
LOCATION:Winchester Cultural Center\, 3130 McLeod Dr\, Las Vegas\, NV\, 89121\, United States
CATEGORIES:Neighborhood Notification Team Canvass
END:VEVENT
END:VCALENDAR