BEGIN:VCALENDAR
VERSION:2.0
PRODID:-//Nevada Plants - ECPv6.8.2.1//NONSGML v1.0//EN
CALSCALE:GREGORIAN
METHOD:PUBLISH
X-WR-CALNAME:Nevada Plants
X-ORIGINAL-URL:https://nevadaplants.com
X-WR-CALDESC:Events for Nevada Plants
REFRESH-INTERVAL;VALUE=DURATION:PT1H
X-Robots-Tag:noindex
X-PUBLISHED-TTL:PT1H
BEGIN:VTIMEZONE
TZID:UTC
BEGIN:STANDARD
TZOFFSETFROM:+0000
TZOFFSETTO:+0000
TZNAME:UTC
DTSTART:20220101T000000
END:STANDARD
END:VTIMEZONE
BEGIN:VEVENT
DTSTART;TZID=UTC:20220417T140000
DTEND;TZID=UTC:20220417T180000
DTSTAMP:20260422T020450
CREATED:20220413T192445Z
LAST-MODIFIED:20220413T192511Z
UID:4669-1650204000-1650218400@nevadaplants.com
SUMMARY:Connecting Roots Earth Week Gathering
DESCRIPTION:Join our collective gathering on raising funds and awareness for food sovereignty\, land protection\, and mutual aid initiatives.
URL:https://nevadaplants.com/event/connecting-roots-earth-week-gathering/
LOCATION:Las Vegas Indian Center\, 2300 w Bonanza Rd.\, Las Vegas\, NV\, 89106\, United States
END:VEVENT
END:VCALENDAR