BEGIN:VCALENDAR
VERSION:2.0
PRODID:-//Nevada Plants - ECPv6.8.2.1//NONSGML v1.0//EN
CALSCALE:GREGORIAN
METHOD:PUBLISH
X-ORIGINAL-URL:https://nevadaplants.com
X-WR-CALDESC:Events for Nevada Plants
REFRESH-INTERVAL;VALUE=DURATION:PT1H
X-Robots-Tag:noindex
X-PUBLISHED-TTL:PT1H
BEGIN:VTIMEZONE
TZID:UTC
BEGIN:STANDARD
TZOFFSETFROM:+0000
TZOFFSETTO:+0000
TZNAME:UTC
DTSTART:20220101T000000
END:STANDARD
END:VTIMEZONE
BEGIN:VEVENT
DTSTART;TZID=UTC:20220317T140000
DTEND;TZID=UTC:20220317T160000
DTSTAMP:20260422T040426
CREATED:20220304T232254Z
LAST-MODIFIED:20220309T180708Z
UID:4350-1647525600-1647532800@nevadaplants.com
SUMMARY:City of Reno Tree Planting
DESCRIPTION:Join Nevada Plants and the City of Reno for a tree planting! \nPlease RSVP Here!
URL:https://nevadaplants.com/event/city-of-reno-tree-planting/
LOCATION:190 Telegrah St\, 190 Telegraph St\, Reno\, NV\, 89502\, United States
END:VEVENT
END:VCALENDAR